BEGIN:VCALENDAR
VERSION:2.0
PRODID:-//HBCU Kings &amp; Queens Conference - ECPv6.15.20//NONSGML v1.0//EN
CALSCALE:GREGORIAN
METHOD:PUBLISH
X-ORIGINAL-URL:https://hbcukingsandqueens.org
X-WR-CALDESC:Events for HBCU Kings &amp; Queens Conference
REFRESH-INTERVAL;VALUE=DURATION:PT1H
X-Robots-Tag:noindex
X-PUBLISHED-TTL:PT1H
BEGIN:VTIMEZONE
TZID:America/Denver
BEGIN:DAYLIGHT
TZOFFSETFROM:-0700
TZOFFSETTO:-0600
TZNAME:MDT
DTSTART:20240310T090000
END:DAYLIGHT
BEGIN:STANDARD
TZOFFSETFROM:-0600
TZOFFSETTO:-0700
TZNAME:MST
DTSTART:20241103T080000
END:STANDARD
BEGIN:DAYLIGHT
TZOFFSETFROM:-0700
TZOFFSETTO:-0600
TZNAME:MDT
DTSTART:20250309T090000
END:DAYLIGHT
BEGIN:STANDARD
TZOFFSETFROM:-0600
TZOFFSETTO:-0700
TZNAME:MST
DTSTART:20251102T080000
END:STANDARD
BEGIN:DAYLIGHT
TZOFFSETFROM:-0700
TZOFFSETTO:-0600
TZNAME:MDT
DTSTART:20260308T090000
END:DAYLIGHT
BEGIN:STANDARD
TZOFFSETFROM:-0600
TZOFFSETTO:-0700
TZNAME:MST
DTSTART:20261101T080000
END:STANDARD
END:VTIMEZONE
BEGIN:VEVENT
DTSTART;TZID=America/Denver:20250726T083000
DTEND;TZID=America/Denver:20250726T093000
DTSTAMP:20260420T084236
CREATED:20260224T171202Z
LAST-MODIFIED:20260224T172941Z
UID:10000025-1753518600-1753522200@hbcukingsandqueens.org
SUMMARY:Welcome/Breakfast
DESCRIPTION:
URL:https://hbcukingsandqueens.org/event/welcome-breakfast/
LOCATION:Convocation Center
CATEGORIES:Schedule
END:VEVENT
BEGIN:VEVENT
DTSTART;TZID=America/Denver:20250726T074500
DTEND;TZID=America/Denver:20250726T074500
DTSTAMP:20260420T084236
CREATED:20260224T171112Z
LAST-MODIFIED:20260224T172945Z
UID:10000024-1753515900-1753515900@hbcukingsandqueens.org
SUMMARY:
DESCRIPTION:Depart the Hotel for our Host School- Xavier University of Louisiana\, 1 Drexel Drive\, New Orleans\, LA\, 504-520-7490. (Transportation provided\, departs from Canal St.) Conference Participants meet in the lobby.
URL:https://hbcukingsandqueens.org/event/63856/
LOCATION:Meet in Hotel Lobby
CATEGORIES:Schedule
END:VEVENT
BEGIN:VEVENT
DTSTART;TZID=America/Denver:20250725T103000
DTEND;TZID=America/Denver:20250725T113000
DTSTAMP:20260420T084236
CREATED:20260224T162005Z
LAST-MODIFIED:20260408T044955Z
UID:10000017-1753439400-1753443000@hbcukingsandqueens.org
SUMMARY:
DESCRIPTION:  \nDr. Alex Ellis\, Award-winning Author\, Renowned Speaker\, Distinguished Mentor\, and Founder of Tied to Greatness\, & Tish Norman\, Founder of a Boutique Learning and Development Consultancy\, TLN\, Inc.\, Norman specializing in college and career readiness \nStep into your royal role with confidence\, class\, and undeniable presence! Polished and Powerful: The Ultimate Dress for Success Intensive is a high-energy\, hands-on “styleshop” crafted especially for HBCU Kings & Queens. Led by image architects Dr. Alex Ellis and Ms. Tish Norman—two nationally recognized experts with 40+ years combined experience—this session will elevate your style game and sharpen your professional edge. \nFrom decoding dress codes to building a wardrobe that speaks before you do\, you’ll learn how to align your outer image with your inner greatness. This is more than fashion—it’s leadership through presence. Walk in with curiosity. Leave with confidence\, clarity\, and a personal brand fit for royalty.
URL:https://hbcukingsandqueens.org/event/63814/
LOCATION:Grand Ballroom\, Grand Ballroom
CATEGORIES:Schedule
ATTACH;FMTTYPE=image/jpeg:https://hbcukingsandqueens.org/wp-content/uploads/2026/02/Polished-and-Powerful.jpeg
END:VEVENT
BEGIN:VEVENT
DTSTART;TZID=America/Denver:20250725T070000
DTEND;TZID=America/Denver:20250725T204500
DTSTAMP:20260420T084236
CREATED:20260224T161511Z
LAST-MODIFIED:20260401T201847Z
UID:10000015-1753426800-1753476300@hbcukingsandqueens.org
SUMMARY:Continental Breakfast
DESCRIPTION:
URL:https://hbcukingsandqueens.org/event/continental-breakfast/
LOCATION:Evangeline Suite & Foyer
CATEGORIES:Schedule
END:VEVENT
BEGIN:VEVENT
DTSTART;TZID=America/Denver:20250724T183000
DTEND;TZID=America/Denver:20250724T193000
DTSTAMP:20260420T084236
CREATED:20260224T155946Z
LAST-MODIFIED:20260401T200547Z
UID:10000012-1753381800-1753385400@hbcukingsandqueens.org
SUMMARY:Greetings / Introduction / Conference Overview
DESCRIPTION:Introduction of HBCU Royalty
URL:https://hbcukingsandqueens.org/event/greetings-introduction-conference-overview/
LOCATION:Grand Ballroom\, Grand Ballroom
CATEGORIES:Schedule
END:VEVENT
BEGIN:VEVENT
DTSTART;TZID=America/Denver:20250724T150000
DTEND;TZID=America/Denver:20250724T160000
DTSTAMP:20260420T084236
CREATED:20260224T155735Z
LAST-MODIFIED:20260224T173031Z
UID:10000011-1753369200-1753372800@hbcukingsandqueens.org
SUMMARY:
DESCRIPTION:New Advisor Orientation (All Advisors Welcome)
URL:https://hbcukingsandqueens.org/event/63742/
CATEGORIES:Schedule
END:VEVENT
END:VCALENDAR