BEGIN:VCALENDAR
VERSION:2.0
PRODID:-//HBCU Kings &amp; Queens Conference - ECPv6.15.20//NONSGML v1.0//EN
CALSCALE:GREGORIAN
METHOD:PUBLISH
X-ORIGINAL-URL:https://hbcukingsandqueens.org
X-WR-CALDESC:Events for HBCU Kings &amp; Queens Conference
REFRESH-INTERVAL;VALUE=DURATION:PT1H
X-Robots-Tag:noindex
X-PUBLISHED-TTL:PT1H
BEGIN:VTIMEZONE
TZID:America/Denver
BEGIN:DAYLIGHT
TZOFFSETFROM:-0700
TZOFFSETTO:-0600
TZNAME:MDT
DTSTART:20250309T090000
END:DAYLIGHT
BEGIN:STANDARD
TZOFFSETFROM:-0600
TZOFFSETTO:-0700
TZNAME:MST
DTSTART:20251102T080000
END:STANDARD
BEGIN:DAYLIGHT
TZOFFSETFROM:-0700
TZOFFSETTO:-0600
TZNAME:MDT
DTSTART:20260308T090000
END:DAYLIGHT
BEGIN:STANDARD
TZOFFSETFROM:-0600
TZOFFSETTO:-0700
TZNAME:MST
DTSTART:20261101T080000
END:STANDARD
BEGIN:DAYLIGHT
TZOFFSETFROM:-0700
TZOFFSETTO:-0600
TZNAME:MDT
DTSTART:20270314T090000
END:DAYLIGHT
BEGIN:STANDARD
TZOFFSETFROM:-0600
TZOFFSETTO:-0700
TZNAME:MST
DTSTART:20271107T080000
END:STANDARD
END:VTIMEZONE
BEGIN:VEVENT
DTSTART;TZID=America/Denver:20260224T080000
DTEND;TZID=America/Denver:20260224T170000
DTSTAMP:20260423T000131
CREATED:20260224T124350Z
LAST-MODIFIED:20260224T170604Z
UID:10000005-1771920000-1771952400@hbcukingsandqueens.org
SUMMARY:23rd Annual HBCU Kings & Queens Conference July 24-27\, 2025
DESCRIPTION:23rd Annual HBCU Kings\n& Queens Conference July 24-27\, 2025
URL:https://hbcukingsandqueens.org/event/23rd-annual-hbcu-kings-queens-conference-july-24-27-2025/
CATEGORIES:program
ATTACH;FMTTYPE=image/jpeg:https://hbcukingsandqueens.org/wp-content/uploads/2026/02/HBCU-2025-1.jpg
END:VEVENT
BEGIN:VEVENT
DTSTART;TZID=America/Denver:20260224T101500
DTEND;TZID=America/Denver:20260224T101500
DTSTAMP:20260423T000131
CREATED:20260224T171542Z
LAST-MODIFIED:20260408T060809Z
UID:10000028-1771928100-1771928100@hbcukingsandqueens.org
SUMMARY:II. Fit for a Queen
DESCRIPTION:Carrie Charlick\, Founder of Essential Bodywear \nUnderstand why the bra is the most important thing in your wardrobe “Change your bra\, Change your life” \n Avoid the three top mistakes people make when buying bras so you no longer want to rip it off at the end of the night \n Understand the bra fit secrets you weren’t taught growing up (but you need to know!) \n Understand the why the bra is the most important thing in your wardrobe \n Stop dreading bras and become a more empowered\, confident\, and supported person \nOnce you come to my workshop you’ll never need to rely on luck to find a good bra fit again! \nAudience: Queens and preferably female Advisors
URL:https://hbcukingsandqueens.org/event/ii-fit-for-a-queen/
LOCATION:NCF 162
CATEGORIES:Schedule
ATTACH;FMTTYPE=image/png:https://hbcukingsandqueens.org/wp-content/uploads/2026/04/Carrie.png
END:VEVENT
BEGIN:VEVENT
DTSTART;TZID=America/Denver:20260224T115000
DTEND;TZID=America/Denver:20260224T115000
DTSTAMP:20260423T000131
CREATED:20260224T115944Z
LAST-MODIFIED:20260224T170548Z
UID:10000003-1771933800-1771933800@hbcukingsandqueens.org
SUMMARY:If You Have an Extraordinary Advisor Who Exemplifies Dedication\, Commitment\, and the Innovative Ability to Enhance Your Reign\, Nominate Them Now!
DESCRIPTION:CLICK HERE to NOMINATE
URL:https://hbcukingsandqueens.org/event/if-you-have-an-extraordinary-advisor-who-exemplifies-dedication-commitment-and-the-innovative-ability-to-enhance-your-reign-nominate-them-now/
CATEGORIES:program
ATTACH;FMTTYPE=image/jpeg:https://hbcukingsandqueens.org/wp-content/uploads/2026/02/Ranzeno.jpg
END:VEVENT
BEGIN:VEVENT
DTSTART;TZID=America/Denver:20260224T115000
DTEND;TZID=America/Denver:20260224T115000
DTSTAMP:20260423T000131
CREATED:20260224T120253Z
LAST-MODIFIED:20260224T170558Z
UID:10000004-1771933800-1771933800@hbcukingsandqueens.org
SUMMARY:2025 HBCU Kings & Queens Conference Programming Grant
DESCRIPTION:To register for the HBCU Kings & Queens Programming Grant click here. \n(open until May 31\, 2025; winner announced at the HBCU Kings & Queens  Conference\, July 26\, 2025\, at the Royal Academy Awards)
URL:https://hbcukingsandqueens.org/event/2025-hbcu-kings-queens-conference-programming-grant/
CATEGORIES:program
ATTACH;FMTTYPE=image/jpeg:https://hbcukingsandqueens.org/wp-content/uploads/2026/02/2025-Programimg-Grant-Winners-1.jpg
END:VEVENT
BEGIN:VEVENT
DTSTART;TZID=America/Denver:20260224T115000
DTEND;TZID=America/Denver:20260224T115000
DTSTAMP:20260423T000131
CREATED:20260224T124733Z
LAST-MODIFIED:20260224T170613Z
UID:10000006-1771933800-1771933800@hbcukingsandqueens.org
SUMMARY:Leadership for Queens & Kings’ Konnection Conference Assistance Scholarship
DESCRIPTION:Leadership for Queens and Kings’ Konnection Conference Assistance Scholarship \nAs part of our mission at Leadership for Queens and Kings’ Konnection\, we are dedicated to making leadership training accessible to all HBCU Kings and Queens. In alignment with our strategic plan\, we offer a limited number of Conference Assistance Scholarships on a case-by-case basis. \nWhile some HBCUs face resource challenges\, this scholarship aims to support royal court members who are eager to make a difference on their campus and are seeking leadership training through the Annual HBCU Kings & Queens Conference. \nThis scholarship is based on financial need and is exclusively open to the official king or queen of the university or college. The king or queen must submit a written essay that not only expresses their desire to attend the conference but also demonstrates the financial need or hardship that attending the conference would create for the individual or their institution. \nUpon submission of the necessary paperwork\, the scholarship committee-comprised of the Board of Directors and conference staff members-will review all applications and select a predetermined number of recipients (based on available funding) to receive scholarships. The scholarships will cover conference registration only; travel\, lodging\, per diem\, and other associated costs are not included. \nPriority Consideration: First-time conference attendees\, colleges\, and universities will be given priority. \nNote: Only one scholarship will be awarded per university or college each year. Click below for more details. Deadline May 31\, 2025. \nLeadership for Queens and Kings Konnection Scholarship Assistance \nApply here 
URL:https://hbcukingsandqueens.org/event/leadership-for-queens-kings-konnection-conference-assistance-scholarship/
CATEGORIES:program
END:VEVENT
BEGIN:VEVENT
DTSTART;TZID=America/Denver:20260224T115000
DTEND;TZID=America/Denver:20260224T115000
DTSTAMP:20260423T000131
CREATED:20260224T125114Z
LAST-MODIFIED:20260224T170623Z
UID:10000007-1771933800-1771933800@hbcukingsandqueens.org
SUMMARY:Kings Crown Giveaway
DESCRIPTION:TBA (Social Media Contest) \nSPONSORED BY DIAVONTTI
URL:https://hbcukingsandqueens.org/event/kings-crown-giveaway/
CATEGORIES:program
ATTACH;FMTTYPE=image/jpeg:https://hbcukingsandqueens.org/wp-content/uploads/2026/02/3.jpeg
END:VEVENT
BEGIN:VEVENT
DTSTART;TZID=America/Denver:20260224T115057
DTEND;TZID=America/Denver:20260224T115057
DTSTAMP:20260423T000131
CREATED:20260224T115056Z
LAST-MODIFIED:20260224T170538Z
UID:10000002-1771933857-1771933857@hbcukingsandqueens.org
SUMMARY:The 2025 Ruby Hardy-Minter Advisor of the Year Nomination
DESCRIPTION:The HBCU Kings & Queens Conference has named its annual advising award in honor and memoriam of Ruby Hardy-Minter\, as a lasting legacy for her dedication\, passion\, and service to the Royal Court at LeMoyne-Owen College. In 2004\, Professor Minter established the Royal Connection Leadership Organization as an official organization and training program on LeMoyne-Owen’s campus. Her remarkable contributions led to her being named our first Advisor of the Year in 2012\, and\, due to her unwavering commitment\, she earned the title again in 2018. As of 2025\, she remains the only advisor to have won the award twice. Her steadfast support for the Kings and Queens speaks volumes about her character\, commitment\, and deep concern-not just for her students\, but for all students. Ms. Minter was a passionate advocate\, volunteer\, mentor\, and supporter of the HBCU Kings & Queens Conference\, attending for over 20 years. The HBCU Kings & Queens Conference is forever grateful for her guidance and will honor her legacy through this outstanding award.
URL:https://hbcukingsandqueens.org/event/the-2025-ruby-hardy-minter-advisor-of-the-year-nomination-2/
CATEGORIES:program
ATTACH;FMTTYPE=image/jpeg:https://hbcukingsandqueens.org/wp-content/uploads/2026/02/RubyHardyMinter.jpg
END:VEVENT
BEGIN:VEVENT
DTSTART;TZID=America/Denver:20260716T140000
DTEND;TZID=America/Denver:20260716T180000
DTSTAMP:20260423T000131
CREATED:20260224T140814Z
LAST-MODIFIED:20260408T044236Z
UID:10000010-1784210400-1784224800@hbcukingsandqueens.org
SUMMARY:PRE-CONFERENCE ACTIVITIES
DESCRIPTION:Wells Fargo Career & Internship Opportunity Meet and Greet  \nExplore. Connect. Apply. Succeed. \nMeet key Wells Fargo officials\, submit your resume early\, and unlock access to internships\, scholarships\, and full-time roles across all majors. \nTop candidates qualify for the “Most Impressive King or Queen” Scholarship Award—announced at the Royal Academy Awards! \nOpen to all majors. Don’t miss this chance to launch your career with a national leader in finance. \nSUBMIT RESUME HERE
URL:https://hbcukingsandqueens.org/event/pre-conference-activities/
LOCATION:Grand Ballroom Foyer
CATEGORIES:Schedule
END:VEVENT
BEGIN:VEVENT
DTSTART;TZID=America/Denver:20260716T140000
DTEND;TZID=America/Denver:20260716T190000
DTSTAMP:20260423T000131
CREATED:20260224T133846Z
LAST-MODIFIED:20260401T200538Z
UID:10000008-1784210400-1784228400@hbcukingsandqueens.org
SUMMARY:Registration
DESCRIPTION:Check-In. Pick up registration materials.
URL:https://hbcukingsandqueens.org/event/registration/
LOCATION:Grand Ballroom Foyer
CATEGORIES:Schedule
END:VEVENT
BEGIN:VEVENT
DTSTART;TZID=America/Denver:20260716T183000
DTEND;TZID=America/Denver:20260716T193000
DTSTAMP:20260423T000131
CREATED:20260224T160217Z
LAST-MODIFIED:20260401T200557Z
UID:10000014-1784226600-1784230200@hbcukingsandqueens.org
SUMMARY:Opening Reception
DESCRIPTION:Great opportunity to meet and greet all attendees from different schools.
URL:https://hbcukingsandqueens.org/event/opening-reception/
LOCATION:The  Jazz Playhouse\, Fleur de           Lis & Courtyard\, The Jazz Playhouse\, Fleur de Lis & Courtyard
CATEGORIES:Schedule
END:VEVENT
BEGIN:VEVENT
DTSTART;TZID=America/Denver:20260716T200000
DTEND;TZID=America/Denver:20260716T200000
DTSTAMP:20260423T000131
CREATED:20260224T160102Z
LAST-MODIFIED:20260401T200609Z
UID:10000013-1784232000-1784232000@hbcukingsandqueens.org
SUMMARY:Opening Keynote Speaker
DESCRIPTION:Introduction of HBCU Royalty
URL:https://hbcukingsandqueens.org/event/opening-keynote-speaker/
LOCATION:Grand Ballroom\, Grand Ballroom
CATEGORIES:Schedule
END:VEVENT
BEGIN:VEVENT
DTSTART;TZID=America/Denver:20260717T023000
DTEND;TZID=America/Denver:20260717T023000
DTSTAMP:20260423T000131
CREATED:20260224T163043Z
LAST-MODIFIED:20260408T054454Z
UID:10000021-1784255400-1784255400@hbcukingsandqueens.org
SUMMARY:Breakout Session for Kings: Black Male Empowerment Panel
DESCRIPTION:A candid discussion on issues facing Black males striving for success. Former HBCU kings and other African American male leaders share real-life lessons on overcoming societal\, professional\, and personal challenges and maximizing an effective and stress-free reign. \n\nAnthony M. Jones\, Jr.\, Founder of The Kings’ Konnection/HBCU Kings & Queens Conference (Talladega College)\nCharles H. Galbreath\, II\, Juvenile Justice System Reform Consultant\, Tennessee State University National Alumni Association President Emeritus\, and former HBCU King (Tennessee State University)\nDr. Alex Ellis\, Award-winning Author\, Renowned Speaker\, Distinguished Mentor\, and Founder of Tied to Greatness\nRoderic L. Sprowl\, M.Div.\, National Keynote Speaker & Founding Pastor\, Thrive Church (Fort Worth\, TX)\nReginald Shareef\, Technologist\, Software engineer\, Entrepreneur\, Artist\, Philanthropist\, and former HBCU King (Tennessee State University)\n\nAudience- (Kings only)
URL:https://hbcukingsandqueens.org/event/breakout-session-for-kings-black-male-empowerment-panel/
LOCATION:Fleur De Lis
CATEGORIES:Schedule
ATTACH;FMTTYPE=image/jpeg:https://hbcukingsandqueens.org/wp-content/uploads/2026/04/new-headshot-Anthiny-300x300-1.jpg
END:VEVENT
BEGIN:VEVENT
DTSTART;TZID=America/Denver:20260717T090000
DTEND;TZID=America/Denver:20260717T090000
DTSTAMP:20260423T000131
CREATED:20260224T161742Z
LAST-MODIFIED:20260408T044603Z
UID:10000016-1784278800-1784278800@hbcukingsandqueens.org
SUMMARY:Introduction and Conference Overview: The Historical Significance of HBCU Royalty
DESCRIPTION:Dale Williams\, PhD\, Founder of Leadership for Queens/HBCU Kings & Queens Conference\, and former HBCU Queen (Tennessee State University) \nDr. Dale Williams gives an overview of the unspoken rules and expectations for Campus Royalty as well as challenges for kings and queens to get ready for the road ahead. \n 
URL:https://hbcukingsandqueens.org/event/introduction-and-conference-overview-the-historical-significance-of-hbcu-royalty/
LOCATION:Grand Ballroom\, Grand Ballroom
CATEGORIES:Schedule
ATTACH;FMTTYPE=image/jpeg:https://hbcukingsandqueens.org/wp-content/uploads/2026/04/download-300x300-1.jpg
END:VEVENT
BEGIN:VEVENT
DTSTART;TZID=America/Denver:20260717T114500
DTEND;TZID=America/Denver:20260717T114500
DTSTAMP:20260423T000131
CREATED:20260224T162154Z
LAST-MODIFIED:20260408T045417Z
UID:10000018-1784288700-1784288700@hbcukingsandqueens.org
SUMMARY:Kings & Queens CARES- LEADING with Legacy
DESCRIPTION:Carla Lankford\, Founder\, Campus Kings & Queens CARES\, and former HBCU Queen (Tennessee State University) \nWearing the crown is more than a title—it’s a responsibility to lead with purpose\, pride\, and power. This dynamic workshop introduces Campus Kings & Queens CARES\, a national leadership and mentorship initiative created specifically for HBCU student royalty. Founded by Carla Lankford\, former Miss Tennessee State University\, in partnership with the National CARES Mentoring Movement led by Susan L. Taylor of Essence magazine\, this program is designed to equip Kings and Queens with the tools to reign with vision and impact.\nThrough this session\, participants will:\n\nDiscover a leadership blueprint tailored for student royalty\nLearn how to design and lead high-impact service projects\nGain strategies for balancing visibility\, academics\, and personal growth\nConnect with a national network of fellow Kings and Queens\nExplore mentorship opportunities that extend beyond their reign\n\nIf your King and Queen are ready to turn their reign into a movement\, this workshop is the first step. Join us and lead with legacy.
URL:https://hbcukingsandqueens.org/event/kings-queens-cares-leading-with-legacy/
LOCATION:Grand Ballroom\, Grand Ballroom
CATEGORIES:Schedule
ATTACH;FMTTYPE=image/jpeg:https://hbcukingsandqueens.org/wp-content/uploads/2026/04/Carla-Lankford-200x300-1.jpg
END:VEVENT
BEGIN:VEVENT
DTSTART;TZID=America/Denver:20260717T130000
DTEND;TZID=America/Denver:20260717T130000
DTSTAMP:20260423T000131
CREATED:20260224T162518Z
LAST-MODIFIED:20260408T045655Z
UID:10000019-1784293200-1784293200@hbcukingsandqueens.org
SUMMARY:LUNCH AND QUICK Buffet & Hotel Etiquette Tips
DESCRIPTION:Cassandra Gray\, Associate Communications Director\, Voice Over Talent\, and Logistics Coordinator\, HBCU Kings & Queens Conference (Tennessee State University) \nWhether in the Royal Court or Royal Sonesta\, traveling for work or pleasure\, first impressions are lasting. During this session\, attendees will learn the do’s and don’ts of buffet and hotel etiquette\, setting the tone for your four-day conference experience. \n 
URL:https://hbcukingsandqueens.org/event/lunch-and-quick-buffet-hotel-etiquette-tips/
LOCATION:Grand Ballroom\, Grand Ballroom
CATEGORIES:Schedule
ATTACH;FMTTYPE=image/jpeg:https://hbcukingsandqueens.org/wp-content/uploads/2026/04/Sandy1-300x300-1.jpg
END:VEVENT
BEGIN:VEVENT
DTSTART;TZID=America/Denver:20260717T143000
DTEND;TZID=America/Denver:20260717T143000
DTSTAMP:20260423T000131
CREATED:20260224T162830Z
LAST-MODIFIED:20260408T045944Z
UID:10000020-1784298600-1784298600@hbcukingsandqueens.org
SUMMARY:Breakout Session Queens: Queening with a Healing Heart
DESCRIPTION:A candid discussion from one queen to another. Real-life lessons and advice on how to take your reign\, life\, and career path to the next level. \nLecia Rives\, ESQ. Comedienne\, Motivational Speaker\, Author (Tennessee State University) \nAudience-Queens only \n 
URL:https://hbcukingsandqueens.org/event/breakout-session-queens-queening-with-a-healing-heart/
LOCATION:Acadia Suite (2nd flr)
CATEGORIES:Schedule
ATTACH;FMTTYPE=image/jpeg:https://hbcukingsandqueens.org/wp-content/uploads/2026/04/LRives-300x300-1.jpg
END:VEVENT
BEGIN:VEVENT
DTSTART;TZID=America/Denver:20260717T190000
DTEND;TZID=America/Denver:20260717T190000
DTSTAMP:20260423T000131
CREATED:20260224T163414Z
LAST-MODIFIED:20260408T055727Z
UID:10000022-1784314800-1784314800@hbcukingsandqueens.org
SUMMARY:Fine Dining 101: Etiquette Dinner
DESCRIPTION:(after five attire) \nOcielia Sprowl – Miss Black USA 2011\, Pageant Coach & Owner\, Slay Your Pageant  \nhttps://www.ocielia.com/ \n 
URL:https://hbcukingsandqueens.org/event/fine-dining-101-etiquette-dinner/
LOCATION:Grand Ballroom\, Grand Ballroom
CATEGORIES:Schedule
ATTACH;FMTTYPE=image/jpeg:https://hbcukingsandqueens.org/wp-content/uploads/2026/04/OC.jpg
END:VEVENT
BEGIN:VEVENT
DTSTART;TZID=America/Denver:20260717T223000
DTEND;TZID=America/Denver:20260717T223000
DTSTAMP:20260423T000131
CREATED:20260224T163513Z
LAST-MODIFIED:20260408T055934Z
UID:10000023-1784327400-1784327400@hbcukingsandqueens.org
SUMMARY:YOU WIN! Royal Game Show (The Choice is Yours)(open to all conference participants -please wear school shirt)
DESCRIPTION:Lecia Rives\, Esq. Comedienne. Motivational Speaker. Author (Tennessee State University) \n 
URL:https://hbcukingsandqueens.org/event/you-win-royal-game-show-the-choice-is-yoursopen-to-all-conference-participants-please-wear-school-shirt/
LOCATION:Grand Ballroom\, Grand Ballroom
CATEGORIES:Schedule
ATTACH;FMTTYPE=image/jpeg:https://hbcukingsandqueens.org/wp-content/uploads/2026/04/LRives-300x300-1.jpg
END:VEVENT
END:VCALENDAR